BEGIN:VCALENDAR
VERSION:2.0
PRODID:-//BElevé Dance Company - ECPv6.15.20//NONSGML v1.0//EN
CALSCALE:GREGORIAN
METHOD:PUBLISH
X-WR-CALNAME:BElevé Dance Company
X-ORIGINAL-URL:https://belevedance.com
X-WR-CALDESC:Events for BElevé Dance Company
REFRESH-INTERVAL;VALUE=DURATION:PT1H
X-Robots-Tag:noindex
X-PUBLISHED-TTL:PT1H
BEGIN:VTIMEZONE
TZID:UTC
BEGIN:STANDARD
TZOFFSETFROM:+0000
TZOFFSETTO:+0000
TZNAME:UTC
DTSTART:20250101T000000
END:STANDARD
END:VTIMEZONE
BEGIN:VEVENT
DTSTART;TZID=UTC:20260515T160000
DTEND;TZID=UTC:20260515T200000
DTSTAMP:20260417T120506
CREATED:20250924T235058Z
LAST-MODIFIED:20250924T235059Z
UID:2030-1778860800-1778875200@belevedance.com
SUMMARY:Ballet Production Rehearsal #1
DESCRIPTION:More information coming soon!
URL:https://belevedance.com/event/ballet-production-rehearsal-1/
LOCATION:Lincoln Northeast High School\, 2635 N 63rd St\, Lincoln\, Nebraska\, 68507
END:VEVENT
BEGIN:VEVENT
DTSTART;TZID=UTC:20260526T160000
DTEND;TZID=UTC:20260526T200000
DTSTAMP:20260417T120506
CREATED:20250924T235209Z
LAST-MODIFIED:20250924T235211Z
UID:2034-1779811200-1779825600@belevedance.com
SUMMARY:Ballet Production Rehearsal #2
DESCRIPTION:More information coming soon!
URL:https://belevedance.com/event/ballet-production-rehearsal-2/
LOCATION:Lincoln Northeast High School\, 2635 N 63rd St\, Lincoln\, Nebraska\, 68507
END:VEVENT
BEGIN:VEVENT
DTSTART;TZID=UTC:20260529T080000
DTEND;TZID=UTC:20260529T170000
DTSTAMP:20260417T120506
CREATED:20250924T235313Z
LAST-MODIFIED:20250924T235314Z
UID:2036-1780041600-1780074000@belevedance.com
SUMMARY:Recital Dress Rehearsal
DESCRIPTION:More information coming soon!
URL:https://belevedance.com/event/recital-dress-rehearsal/
LOCATION:Lincoln Standing Bear High School\, 11100 S 70 St\, Lincoln\, Nebraska\, 68516
END:VEVENT
BEGIN:VEVENT
DTSTART;TZID=UTC:20260530T140000
DTEND;TZID=UTC:20260530T190000
DTSTAMP:20260417T120506
CREATED:20250924T235406Z
LAST-MODIFIED:20260416T015750Z
UID:2038-1780149600-1780167600@belevedance.com
SUMMARY:Recital
DESCRIPTION:Tickets for sale May 1st.
URL:https://belevedance.com/event/recital/
LOCATION:Lincoln Standing Bear High School\, 11100 S 70 St\, Lincoln\, Nebraska\, 68516
END:VEVENT
BEGIN:VEVENT
DTSTART;TZID=UTC:20260531T140000
DTEND;TZID=UTC:20260531T190000
DTSTAMP:20260417T120506
CREATED:20260416T015922Z
LAST-MODIFIED:20260416T015953Z
UID:2075-1780236000-1780254000@belevedance.com
SUMMARY:Recital
DESCRIPTION:Tickets on sale May 1st.
URL:https://belevedance.com/event/recital-2/
LOCATION:Lincoln Standing Bear High School\, 11100 S 70 St\, Lincoln\, Nebraska\, 68516
END:VEVENT
BEGIN:VEVENT
DTSTART;TZID=UTC:20260619T160000
DTEND;TZID=UTC:20260619T200000
DTSTAMP:20260417T120506
CREATED:20260416T020245Z
LAST-MODIFIED:20260416T020247Z
UID:2077-1781884800-1781899200@belevedance.com
SUMMARY:The Company at BElevé Auditions
DESCRIPTION:Registration required through Jackrabbit account.
URL:https://belevedance.com/event/the-company-at-beleve-auditions-2/
END:VEVENT
BEGIN:VEVENT
DTSTART;TZID=UTC:20260620T140000
DTEND;TZID=UTC:20260620T200000
DTSTAMP:20260417T120506
CREATED:20260416T020356Z
LAST-MODIFIED:20260416T020359Z
UID:2079-1781964000-1781985600@belevedance.com
SUMMARY:The Company at BElevé Auditions
DESCRIPTION:Registration required through Jackrabbit account.
URL:https://belevedance.com/event/the-company-at-beleve-auditions-3/
END:VEVENT
END:VCALENDAR